BEGIN:VCALENDAR
VERSION:2.0
PRODID:-//Domi Mau: Música y Teatro - ECPv6.0.10//NONSGML v1.0//EN
CALSCALE:GREGORIAN
METHOD:PUBLISH
X-ORIGINAL-URL:https://domimau.es
X-WR-CALDESC:Eventos para Domi Mau: Música y Teatro
REFRESH-INTERVAL;VALUE=DURATION:PT1H
X-Robots-Tag:noindex
X-PUBLISHED-TTL:PT1H
BEGIN:VTIMEZONE
TZID:UTC
BEGIN:STANDARD
TZOFFSETFROM:+0000
TZOFFSETTO:+0000
TZNAME:UTC
DTSTART:20250101T000000
END:STANDARD
END:VTIMEZONE
BEGIN:VEVENT
DTSTART;TZID=UTC:20250814T190000
DTEND;TZID=UTC:20250814T210000
DTSTAMP:20260423T161547
CREATED:20250512T174825Z
LAST-MODIFIED:20250512T181849Z
UID:10000367-1755198000-1755205200@domimau.es
SUMMARY:CHIC JAM 19hs
DESCRIPTION:https://www.instagram.com/chicjam.es
URL:https://domimau.es/event0/chic-jam-19hs-20/
LOCATION:Nou Racó 169\, Barcelona\, España
END:VEVENT
BEGIN:VEVENT
DTSTART;TZID=UTC:20250807T190000
DTEND;TZID=UTC:20250807T210000
DTSTAMP:20260423T161547
CREATED:20250512T174825Z
LAST-MODIFIED:20250512T174825Z
UID:10000366-1754593200-1754600400@domimau.es
SUMMARY:CHIC JAM 19hs
DESCRIPTION:https://www.instagram.com/chicjam.es
URL:https://domimau.es/event0/chic-jam-19hs-19/
LOCATION:Nou Racó 169\, Barcelona\, España
END:VEVENT
BEGIN:VEVENT
DTSTART;TZID=UTC:20250729T190000
DTEND;TZID=UTC:20250729T210000
DTSTAMP:20260423T161547
CREATED:20250512T174825Z
LAST-MODIFIED:20250512T174825Z
UID:10000365-1753815600-1753822800@domimau.es
SUMMARY:CHIC JAM 19hs
DESCRIPTION:https://www.instagram.com/chicjam.es
URL:https://domimau.es/event0/chic-jam-19hs-18/
LOCATION:Nou Racó 169\, Barcelona\, España
END:VEVENT
BEGIN:VEVENT
DTSTART;TZID=UTC:20250725T203000
DTEND;TZID=UTC:20250725T223000
DTSTAMP:20260423T161547
CREATED:20250512T174825Z
LAST-MODIFIED:20250512T174825Z
UID:10000364-1753475400-1753482600@domimau.es
SUMMARY:LIVE MUSIC 20.30hs
DESCRIPTION:Cena Show / Expo Art
URL:https://domimau.es/event0/live-music-20-30hs-5/
END:VEVENT
BEGIN:VEVENT
DTSTART;TZID=UTC:20250721T190000
DTEND;TZID=UTC:20250721T210000
DTSTAMP:20260423T161547
CREATED:20250512T174810Z
LAST-MODIFIED:20250512T174810Z
UID:10000363-1753124400-1753131600@domimau.es
SUMMARY:CHIC JAM 19hs
DESCRIPTION:https://www.instagram.com/chicjam.es
URL:https://domimau.es/event0/chic-jam-19hs-17/
LOCATION:Nou Racó 169\, Barcelona\, España
END:VEVENT
BEGIN:VEVENT
DTSTART;TZID=UTC:20250717T190000
DTEND;TZID=UTC:20250717T210000
DTSTAMP:20260423T161547
CREATED:20250512T174810Z
LAST-MODIFIED:20250512T174810Z
UID:10000362-1752778800-1752786000@domimau.es
SUMMARY:CHIC JAM 19hs
DESCRIPTION:https://www.instagram.com/chicjam.es
URL:https://domimau.es/event0/chic-jam-19hs-16/
LOCATION:Nou Racó 169\, Barcelona\, España
END:VEVENT
BEGIN:VEVENT
DTSTART;TZID=UTC:20250710T190000
DTEND;TZID=UTC:20250710T210000
DTSTAMP:20260423T161547
CREATED:20250512T174810Z
LAST-MODIFIED:20250512T174810Z
UID:10000361-1752174000-1752181200@domimau.es
SUMMARY:CHIC JAM 19hs
DESCRIPTION:https://www.instagram.com/chicjam.es
URL:https://domimau.es/event0/chic-jam-19hs-15/
LOCATION:Nou Racó 169\, Barcelona\, España
END:VEVENT
BEGIN:VEVENT
DTSTART;TZID=UTC:20250705T210000
DTEND;TZID=UTC:20250705T233000
DTSTAMP:20260423T161547
CREATED:20250512T174810Z
LAST-MODIFIED:20250512T174810Z
UID:10000360-1751749200-1751758200@domimau.es
SUMMARY:LIVE MUSIC 21hs
DESCRIPTION:Covers de música popular – Cena Show
URL:https://domimau.es/event0/live-music-21hs/
END:VEVENT
BEGIN:VEVENT
DTSTART;TZID=UTC:20250703T190000
DTEND;TZID=UTC:20250703T210000
DTSTAMP:20260423T161547
CREATED:20250512T174810Z
LAST-MODIFIED:20250512T174810Z
UID:10000359-1751569200-1751576400@domimau.es
SUMMARY:CHIC JAM 19hs
DESCRIPTION:https://www.instagram.com/chicjam.es
URL:https://domimau.es/event0/chic-jam-19hs-14/
LOCATION:Nou Racó 169\, Barcelona\, España
END:VEVENT
BEGIN:VEVENT
DTSTART;TZID=UTC:20250626T190000
DTEND;TZID=UTC:20250626T210000
DTSTAMP:20260423T161547
CREATED:20250512T174755Z
LAST-MODIFIED:20250512T174755Z
UID:10000358-1750964400-1750971600@domimau.es
SUMMARY:CHIC JAM 19hs
DESCRIPTION:https://www.instagram.com/chicjam.es
URL:https://domimau.es/event0/chic-jam-19hs-13/
LOCATION:Nou Racó 169\, Barcelona\, España
END:VEVENT
BEGIN:VEVENT
DTSTART;TZID=UTC:20250620T203000
DTEND;TZID=UTC:20250620T223000
DTSTAMP:20260423T161547
CREATED:20250512T174755Z
LAST-MODIFIED:20250512T174755Z
UID:10000357-1750451400-1750458600@domimau.es
SUMMARY:LIVE MUSIC 20.30hs
DESCRIPTION:Covers de música popular – Cena Show
URL:https://domimau.es/event0/live-music-20-30hs-4/
END:VEVENT
BEGIN:VEVENT
DTSTART;TZID=UTC:20250619T190000
DTEND;TZID=UTC:20250619T210000
DTSTAMP:20260423T161547
CREATED:20250512T174755Z
LAST-MODIFIED:20250512T174755Z
UID:10000356-1750359600-1750366800@domimau.es
SUMMARY:CHIC JAM 19hs
DESCRIPTION:https://www.instagram.com/chicjam.es
URL:https://domimau.es/event0/chic-jam-19hs-12/
LOCATION:Nou Racó 169\, Barcelona\, España
END:VEVENT
BEGIN:VEVENT
DTSTART;TZID=UTC:20250612T190000
DTEND;TZID=UTC:20250612T210000
DTSTAMP:20260423T161547
CREATED:20250512T174755Z
LAST-MODIFIED:20250512T174755Z
UID:10000355-1749754800-1749762000@domimau.es
SUMMARY:CHIC JAM 19hs
DESCRIPTION:https://www.instagram.com/chicjam.es
URL:https://domimau.es/event0/chic-jam-19hs-11/
LOCATION:Nou Racó 169\, Barcelona\, España
END:VEVENT
BEGIN:VEVENT
DTSTART;TZID=UTC:20250605T190000
DTEND;TZID=UTC:20250605T210000
DTSTAMP:20260423T161547
CREATED:20250512T174755Z
LAST-MODIFIED:20250512T174755Z
UID:10000354-1749150000-1749157200@domimau.es
SUMMARY:CHIC JAM 19hs
DESCRIPTION:https://www.instagram.com/chicjam.es
URL:https://domimau.es/event0/chic-jam-19hs-10/
LOCATION:Nou Racó 169\, Barcelona\, España
END:VEVENT
BEGIN:VEVENT
DTSTART;TZID=UTC:20250531T200000
DTEND;TZID=UTC:20250531T220000
DTSTAMP:20260423T161547
CREATED:20250512T174740Z
LAST-MODIFIED:20250512T174740Z
UID:10000353-1748721600-1748728800@domimau.es
SUMMARY:LIVE MUSIC 20.00hs
DESCRIPTION:Noche de Rumba
URL:https://domimau.es/event0/live-music-20-00hs/
END:VEVENT
BEGIN:VEVENT
DTSTART;TZID=UTC:20250530T230000
DTEND;TZID=UTC:20250530T233000
DTSTAMP:20260423T161547
CREATED:20250512T174740Z
LAST-MODIFIED:20250512T174740Z
UID:10000352-1748646000-1748647800@domimau.es
SUMMARY:LIVE MUSIC 23hs
DESCRIPTION:Covers de música popular – Canto Bar
URL:https://domimau.es/event0/live-music-23hs-2/
LOCATION:Pez Bruja\, Carrer del Progrés\, 38\, Gràcia\, Barcelona\, Barcelona\, 08012\, España
END:VEVENT
BEGIN:VEVENT
DTSTART;TZID=UTC:20250529T190000
DTEND;TZID=UTC:20250529T210000
DTSTAMP:20260423T161547
CREATED:20250512T174740Z
LAST-MODIFIED:20250512T174740Z
UID:10000351-1748545200-1748552400@domimau.es
SUMMARY:CHIC JAM 19hs
DESCRIPTION:https://www.instagram.com/chicjam.es
URL:https://domimau.es/event0/chic-jam-19hs-9/
LOCATION:Nou Racó 169\, Barcelona\, España
END:VEVENT
BEGIN:VEVENT
DTSTART;TZID=UTC:20250524T130000
DTEND;TZID=UTC:20250524T150000
DTSTAMP:20260423T161547
CREATED:20250512T174740Z
LAST-MODIFIED:20250512T174740Z
UID:10000350-1748091600-1748098800@domimau.es
SUMMARY:LIVE MUSIC 1:00hs
DESCRIPTION:Covers de música popular – Canto Bar
URL:https://domimau.es/event0/live-music-100hs-5/
END:VEVENT
BEGIN:VEVENT
DTSTART;TZID=UTC:20250523T130000
DTEND;TZID=UTC:20250523T150000
DTSTAMP:20260423T161547
CREATED:20250512T174740Z
LAST-MODIFIED:20250512T174740Z
UID:10000349-1748005200-1748012400@domimau.es
SUMMARY:LIVE MUSIC 1:00hs
DESCRIPTION:Covers de música popular – Canto Bar
URL:https://domimau.es/event0/live-music-100hs-4/
END:VEVENT
BEGIN:VEVENT
DTSTART;TZID=UTC:20250522T190000
DTEND;TZID=UTC:20250522T210000
DTSTAMP:20260423T161547
CREATED:20250512T174725Z
LAST-MODIFIED:20250512T174725Z
UID:10000348-1747940400-1747947600@domimau.es
SUMMARY:CHIC JAM 19hs
DESCRIPTION:https://www.instagram.com/chicjam.es
URL:https://domimau.es/event0/chic-jam-19hs-8/
LOCATION:Nou Racó 169\, Barcelona\, España
END:VEVENT
BEGIN:VEVENT
DTSTART;TZID=UTC:20250517T203000
DTEND;TZID=UTC:20250517T223000
DTSTAMP:20260423T161547
CREATED:20250512T174725Z
LAST-MODIFIED:20250512T174725Z
UID:10000347-1747513800-1747521000@domimau.es
SUMMARY:LIVE MUSIC 20.30hs
DESCRIPTION:Covers de música popular – Cena Show
URL:https://domimau.es/event0/live-music-20-30hs-3/
END:VEVENT
BEGIN:VEVENT
DTSTART;TZID=UTC:20250515T190000
DTEND;TZID=UTC:20250515T210000
DTSTAMP:20260423T161547
CREATED:20250512T174725Z
LAST-MODIFIED:20250512T174725Z
UID:10000346-1747335600-1747342800@domimau.es
SUMMARY:CHIC JAM 19hs
DESCRIPTION:https://www.instagram.com/chicjam.es
URL:https://domimau.es/event0/chic-jam-19hs-7/
LOCATION:Nou Racó 169\, Barcelona\, España
END:VEVENT
BEGIN:VEVENT
DTSTART;TZID=UTC:20250509T230000
DTEND;TZID=UTC:20250509T233000
DTSTAMP:20260423T161547
CREATED:20250512T174725Z
LAST-MODIFIED:20250512T174725Z
UID:10000345-1746831600-1746833400@domimau.es
SUMMARY:LIVE MUSIC 23hs
DESCRIPTION:Covers de música popular – Canto Bar
URL:https://domimau.es/event0/live-music-23hs/
LOCATION:Pez Bruja\, Carrer del Progrés\, 38\, Gràcia\, Barcelona\, Barcelona\, 08012\, España
END:VEVENT
BEGIN:VEVENT
DTSTART;TZID=UTC:20250508T190000
DTEND;TZID=UTC:20250508T210000
DTSTAMP:20260423T161547
CREATED:20250512T174725Z
LAST-MODIFIED:20250512T174725Z
UID:10000344-1746730800-1746738000@domimau.es
SUMMARY:CHIC JAM 19hs
DESCRIPTION:https://www.instagram.com/chicjam.es
URL:https://domimau.es/event0/chic-jam-19hs-6/
LOCATION:Nou Racó 169\, Barcelona\, España
END:VEVENT
BEGIN:VEVENT
DTSTART;TZID=UTC:20250503T220000
DTEND;TZID=UTC:20250503T233000
DTSTAMP:20260423T161547
CREATED:20250512T174710Z
LAST-MODIFIED:20250512T174710Z
UID:10000343-1746309600-1746315000@domimau.es
SUMMARY:LIVE MUSIC 22hs
DESCRIPTION:Covers de música popular – Canto Bar
URL:https://domimau.es/event0/live-music-22hs-2/
LOCATION:Pez Bruja\, Carrer del Progrés\, 38\, Gràcia\, Barcelona\, Barcelona\, 08012\, España
END:VEVENT
BEGIN:VEVENT
DTSTART;TZID=UTC:20250502T203000
DTEND;TZID=UTC:20250502T223000
DTSTAMP:20260423T161547
CREATED:20250512T174710Z
LAST-MODIFIED:20250512T174710Z
UID:10000342-1746217800-1746225000@domimau.es
SUMMARY:LIVE MUSIC 20.30hs
DESCRIPTION:Cena Show / Expo Art
URL:https://domimau.es/event0/live-music-20-30hs-2/
END:VEVENT
BEGIN:VEVENT
DTSTART;TZID=UTC:20250501T190000
DTEND;TZID=UTC:20250501T210000
DTSTAMP:20260423T161547
CREATED:20250512T174710Z
LAST-MODIFIED:20250512T174710Z
UID:10000341-1746126000-1746133200@domimau.es
SUMMARY:CHIC JAM 19hs
DESCRIPTION:https://www.instagram.com/chicjam.es
URL:https://domimau.es/event0/chic-jam-19hs-5/
LOCATION:Nou Racó 169\, Barcelona\, España
END:VEVENT
BEGIN:VEVENT
DTSTART;TZID=UTC:20250430T220000
DTEND;TZID=UTC:20250430T233000
DTSTAMP:20260423T161547
CREATED:20250512T174710Z
LAST-MODIFIED:20250512T174710Z
UID:10000340-1746050400-1746055800@domimau.es
SUMMARY:LIVE MUSIC 22hs
DESCRIPTION:Covers de música popular – Canto Bar
URL:https://domimau.es/event0/live-music-22hs/
LOCATION:Pez Bruja\, Carrer del Progrés\, 38\, Gràcia\, Barcelona\, Barcelona\, 08012\, España
END:VEVENT
BEGIN:VEVENT
DTSTART;TZID=UTC:20250426T130000
DTEND;TZID=UTC:20250426T150000
DTSTAMP:20260423T161547
CREATED:20250512T174710Z
LAST-MODIFIED:20250512T174710Z
UID:10000339-1745672400-1745679600@domimau.es
SUMMARY:LIVE MUSIC 1:00hs
DESCRIPTION:Covers de música popular – Canto Bar
URL:https://domimau.es/event0/live-music-100hs-3/
END:VEVENT
BEGIN:VEVENT
DTSTART;TZID=UTC:20250425T130000
DTEND;TZID=UTC:20250425T150000
DTSTAMP:20260423T161547
CREATED:20250512T174655Z
LAST-MODIFIED:20250512T174655Z
UID:10000338-1745586000-1745593200@domimau.es
SUMMARY:LIVE MUSIC 1:00hs
DESCRIPTION:Covers de música popular – Canto Bar
URL:https://domimau.es/event0/live-music-100hs-2/
END:VEVENT
END:VCALENDAR